BEGIN:VCALENDAR
VERSION:2.0
PRODID:-//La Vôge-les-Bains - ECPv6.15.20//NONSGML v1.0//EN
CALSCALE:GREGORIAN
METHOD:PUBLISH
X-WR-CALNAME:La Vôge-les-Bains
X-ORIGINAL-URL:https://www.lavogelesbains.fr
X-WR-CALDESC:Évènements pour La Vôge-les-Bains
REFRESH-INTERVAL;VALUE=DURATION:PT1H
X-Robots-Tag:noindex
X-PUBLISHED-TTL:PT1H
BEGIN:VTIMEZONE
TZID:Europe/Paris
BEGIN:DAYLIGHT
TZOFFSETFROM:+0100
TZOFFSETTO:+0200
TZNAME:CEST
DTSTART:20240331T010000
END:DAYLIGHT
BEGIN:STANDARD
TZOFFSETFROM:+0200
TZOFFSETTO:+0100
TZNAME:CET
DTSTART:20241027T010000
END:STANDARD
BEGIN:DAYLIGHT
TZOFFSETFROM:+0100
TZOFFSETTO:+0200
TZNAME:CEST
DTSTART:20250330T010000
END:DAYLIGHT
BEGIN:STANDARD
TZOFFSETFROM:+0200
TZOFFSETTO:+0100
TZNAME:CET
DTSTART:20251026T010000
END:STANDARD
BEGIN:DAYLIGHT
TZOFFSETFROM:+0100
TZOFFSETTO:+0200
TZNAME:CEST
DTSTART:20260329T010000
END:DAYLIGHT
BEGIN:STANDARD
TZOFFSETFROM:+0200
TZOFFSETTO:+0100
TZNAME:CET
DTSTART:20261025T010000
END:STANDARD
END:VTIMEZONE
BEGIN:VEVENT
DTSTART;TZID=Europe/Paris:20250104T000000
DTEND;TZID=Europe/Paris:20250104T235959
DTSTAMP:20260425T145725
CREATED:20241218T154426Z
LAST-MODIFIED:20241218T160330Z
UID:1611-1735948800-1736035199@www.lavogelesbains.fr
SUMMARY:Spectacle des Enfants - CCAS
DESCRIPTION:
URL:https://www.lavogelesbains.fr/evenement/spectacle-des-enfants-ccas/
END:VEVENT
BEGIN:VEVENT
DTSTART;TZID=Europe/Paris:20250106T160000
DTEND;TZID=Europe/Paris:20250106T190000
DTSTAMP:20260425T145725
CREATED:20241218T154549Z
LAST-MODIFIED:20241218T154615Z
UID:1614-1736179200-1736190000@www.lavogelesbains.fr
SUMMARY:Collecte de Sang - Amicale des Donneurs de Sang de Bains-les-Bains
DESCRIPTION:
URL:https://www.lavogelesbains.fr/evenement/collecte-de-sang-amicale-des-donneurs-de-sang-de-bains-les-bains/
END:VEVENT
BEGIN:VEVENT
DTSTART;TZID=Europe/Paris:20250109T133000
DTEND;TZID=Europe/Paris:20250109T170000
DTSTAMP:20260425T145725
CREATED:20241218T154722Z
LAST-MODIFIED:20241218T154722Z
UID:1617-1736429400-1736442000@www.lavogelesbains.fr
SUMMARY:Assemblée Générale de l'UNC/AFN
DESCRIPTION:
URL:https://www.lavogelesbains.fr/evenement/assemblee-generale-de-lunc-afn/
END:VEVENT
BEGIN:VEVENT
DTSTART;TZID=Europe/Paris:20250110T160000
DTEND;TZID=Europe/Paris:20250110T170000
DTSTAMP:20260425T145725
CREATED:20241218T154825Z
LAST-MODIFIED:20241218T154825Z
UID:1619-1736524800-1736528400@www.lavogelesbains.fr
SUMMARY:Atelier "Apprendre sur Smartphone" - Médiathèque de Bains-les-Bains
DESCRIPTION:
URL:https://www.lavogelesbains.fr/evenement/atelier-apprendre-sur-smartphone-mediatheque-de-bains-les-bains/
END:VEVENT
BEGIN:VEVENT
DTSTART;TZID=Europe/Paris:20250115T163000
DTEND;TZID=Europe/Paris:20250115T173000
DTSTAMP:20260425T145725
CREATED:20241218T154912Z
LAST-MODIFIED:20241218T154912Z
UID:1621-1736958600-1736962200@www.lavogelesbains.fr
SUMMARY:Heure du Conte- Médiathèque de Bains-les-Bains
DESCRIPTION:
URL:https://www.lavogelesbains.fr/evenement/heure-du-conte-mediatheque-de-bains-les-bains/
END:VEVENT
BEGIN:VEVENT
DTSTART;TZID=Europe/Paris:20250117T150000
DTEND;TZID=Europe/Paris:20250117T160000
DTSTAMP:20260425T145725
CREATED:20241218T155000Z
LAST-MODIFIED:20241218T155000Z
UID:1623-1737126000-1737129600@www.lavogelesbains.fr
SUMMARY:Atelier "Tricot" - Médiathèque de Bains-les-Bains
DESCRIPTION:
URL:https://www.lavogelesbains.fr/evenement/atelier-tricot-mediatheque-de-bains-les-bains/
END:VEVENT
BEGIN:VEVENT
DTSTART;TZID=Europe/Paris:20250119T000000
DTEND;TZID=Europe/Paris:20250119T235959
DTSTAMP:20260425T145725
CREATED:20241218T155037Z
LAST-MODIFIED:20241218T155300Z
UID:1625-1737244800-1737331199@www.lavogelesbains.fr
SUMMARY:Spectacle - EHPAD Sentiers d'Automne
DESCRIPTION:
URL:https://www.lavogelesbains.fr/evenement/assemblee-generale-au-fil-du-bagnerot/
END:VEVENT
BEGIN:VEVENT
DTSTART;TZID=Europe/Paris:20250119T000000
DTEND;TZID=Europe/Paris:20250119T235959
DTSTAMP:20260425T145725
CREATED:20241218T155230Z
LAST-MODIFIED:20241218T160350Z
UID:1629-1737244800-1737331199@www.lavogelesbains.fr
SUMMARY:Galette des Rois - UNC/AFN
DESCRIPTION:
URL:https://www.lavogelesbains.fr/evenement/galette-des-rois-unc-afn/
END:VEVENT
BEGIN:VEVENT
DTSTART;TZID=Europe/Paris:20250121T100000
DTEND;TZID=Europe/Paris:20250121T120000
DTSTAMP:20260425T145725
CREATED:20241218T155441Z
LAST-MODIFIED:20241218T155441Z
UID:1631-1737453600-1737460800@www.lavogelesbains.fr
SUMMARY:Atelier "Du Côté des Bébés" - Médiathèque de Bains-les-Bains
DESCRIPTION:
URL:https://www.lavogelesbains.fr/evenement/atelier-du-cote-des-bebes-mediatheque-de-bains-les-bains/
END:VEVENT
BEGIN:VEVENT
DTSTART;TZID=Europe/Paris:20250123T000000
DTEND;TZID=Europe/Paris:20250123T235959
DTSTAMP:20260425T145725
CREATED:20241218T160051Z
LAST-MODIFIED:20241218T160051Z
UID:1634-1737590400-1737676799@www.lavogelesbains.fr
SUMMARY:Nuit de la Lecture - Amis de la Manufacture Royale de Bains
DESCRIPTION:
URL:https://www.lavogelesbains.fr/evenement/nuit-de-la-lecture-amis-de-la-manufacture-royale-de-bains/
END:VEVENT
BEGIN:VEVENT
DTSTART;TZID=Europe/Paris:20250131T100000
DTEND;TZID=Europe/Paris:20250131T170000
DTSTAMP:20260425T145725
CREATED:20241218T160138Z
LAST-MODIFIED:20241218T160138Z
UID:1636-1738317600-1738342800@www.lavogelesbains.fr
SUMMARY:Atelier Tricot- Médiathèque de Bains-les-Bains
DESCRIPTION:
URL:https://www.lavogelesbains.fr/evenement/atelier-tricot-mediatheque-de-bains-les-bains-2/
END:VEVENT
BEGIN:VEVENT
DTSTART;TZID=Europe/Paris:20250131T200000
DTEND;TZID=Europe/Paris:20250131T230000
DTSTAMP:20260425T145725
CREATED:20241218T160213Z
LAST-MODIFIED:20241218T160213Z
UID:1638-1738353600-1738364400@www.lavogelesbains.fr
SUMMARY:Cérémonie des Voeux Au Maire
DESCRIPTION:
URL:https://www.lavogelesbains.fr/evenement/ceremonie-des-voeux-au-maire/
END:VEVENT
END:VCALENDAR