BEGIN:VCALENDAR
VERSION:2.0
PRODID:-//La Vôge-les-Bains - ECPv6.15.20//NONSGML v1.0//EN
CALSCALE:GREGORIAN
METHOD:PUBLISH
X-ORIGINAL-URL:https://www.lavogelesbains.fr
X-WR-CALDESC:Évènements pour La Vôge-les-Bains
REFRESH-INTERVAL;VALUE=DURATION:PT1H
X-Robots-Tag:noindex
X-PUBLISHED-TTL:PT1H
BEGIN:VTIMEZONE
TZID:Europe/Paris
BEGIN:DAYLIGHT
TZOFFSETFROM:+0100
TZOFFSETTO:+0200
TZNAME:CEST
DTSTART:20240331T010000
END:DAYLIGHT
BEGIN:STANDARD
TZOFFSETFROM:+0200
TZOFFSETTO:+0100
TZNAME:CET
DTSTART:20241027T010000
END:STANDARD
BEGIN:DAYLIGHT
TZOFFSETFROM:+0100
TZOFFSETTO:+0200
TZNAME:CEST
DTSTART:20250330T010000
END:DAYLIGHT
BEGIN:STANDARD
TZOFFSETFROM:+0200
TZOFFSETTO:+0100
TZNAME:CET
DTSTART:20251026T010000
END:STANDARD
BEGIN:DAYLIGHT
TZOFFSETFROM:+0100
TZOFFSETTO:+0200
TZNAME:CEST
DTSTART:20260329T010000
END:DAYLIGHT
BEGIN:STANDARD
TZOFFSETFROM:+0200
TZOFFSETTO:+0100
TZNAME:CET
DTSTART:20261025T010000
END:STANDARD
END:VTIMEZONE
BEGIN:VEVENT
DTSTART;TZID=Europe/Paris:20250704T000000
DTEND;TZID=Europe/Paris:20250704T235959
DTSTAMP:20260425T050759
CREATED:20250204T095831Z
LAST-MODIFIED:20250204T095831Z
UID:2184-1751587200-1751673599@www.lavogelesbains.fr
SUMMARY:Concert d'Été
DESCRIPTION:
URL:https://www.lavogelesbains.fr/evenement/concert-dete/
END:VEVENT
BEGIN:VEVENT
DTSTART;TZID=Europe/Paris:20250706T000000
DTEND;TZID=Europe/Paris:20250706T235959
DTSTAMP:20260425T050759
CREATED:20250602T123608Z
LAST-MODIFIED:20250602T123608Z
UID:3093-1751760000-1751846399@www.lavogelesbains.fr
SUMMARY:Concert de La Balnéenne - HVV au Camping Les Pins
DESCRIPTION:
URL:https://www.lavogelesbains.fr/evenement/concert-de-la-balneenne-hvv-au-camping-les-pins-2/
END:VEVENT
BEGIN:VEVENT
DTSTART;TZID=Europe/Paris:20250712T080000
DTEND;TZID=Europe/Paris:20250713T170000
DTSTAMP:20260425T050759
CREATED:20250204T095924Z
LAST-MODIFIED:20250204T095924Z
UID:2186-1752307200-1752426000@www.lavogelesbains.fr
SUMMARY:Cinquantenaire du Jumelage Bonndorf - Bains-les-Bains
DESCRIPTION:
URL:https://www.lavogelesbains.fr/evenement/cinquantenaire-du-jumelage-bonndorf-bains-les-bains/
END:VEVENT
BEGIN:VEVENT
DTSTART;TZID=Europe/Paris:20250714T000000
DTEND;TZID=Europe/Paris:20250714T235959
DTSTAMP:20260425T050759
CREATED:20250204T100221Z
LAST-MODIFIED:20250204T100221Z
UID:2188-1752451200-1752537599@www.lavogelesbains.fr
SUMMARY:Fête Nationale du 14 Juillet
DESCRIPTION:
URL:https://www.lavogelesbains.fr/evenement/fete-nationale-du-14-juillet/
END:VEVENT
BEGIN:VEVENT
DTSTART;TZID=Europe/Paris:20250719T000000
DTEND;TZID=Europe/Paris:20250719T235959
DTSTAMP:20260425T050759
CREATED:20250204T100248Z
LAST-MODIFIED:20250204T100248Z
UID:2190-1752883200-1752969599@www.lavogelesbains.fr
SUMMARY:Conférence sur la Forêt
DESCRIPTION:
URL:https://www.lavogelesbains.fr/evenement/conference-sur-la-foret/
END:VEVENT
BEGIN:VEVENT
DTSTART;TZID=Europe/Paris:20250730T000000
DTEND;TZID=Europe/Paris:20250730T235959
DTSTAMP:20260425T050759
CREATED:20250415T142534Z
LAST-MODIFIED:20250605T123931Z
UID:2770-1753833600-1753919999@www.lavogelesbains.fr
SUMMARY:Marché Nocturne de La Vôge-les-Bains
DESCRIPTION:
URL:https://www.lavogelesbains.fr/evenement/marche-nocturne-de-la-voge-les-bains-4/
END:VEVENT
END:VCALENDAR