BEGIN:VCALENDAR
VERSION:2.0
PRODID:-//La Vôge-les-Bains - ECPv6.15.20//NONSGML v1.0//EN
CALSCALE:GREGORIAN
METHOD:PUBLISH
X-ORIGINAL-URL:https://www.lavogelesbains.fr
X-WR-CALDESC:Évènements pour La Vôge-les-Bains
REFRESH-INTERVAL;VALUE=DURATION:PT1H
X-Robots-Tag:noindex
X-PUBLISHED-TTL:PT1H
BEGIN:VTIMEZONE
TZID:Europe/Paris
BEGIN:DAYLIGHT
TZOFFSETFROM:+0100
TZOFFSETTO:+0200
TZNAME:CEST
DTSTART:20240331T010000
END:DAYLIGHT
BEGIN:STANDARD
TZOFFSETFROM:+0200
TZOFFSETTO:+0100
TZNAME:CET
DTSTART:20241027T010000
END:STANDARD
BEGIN:DAYLIGHT
TZOFFSETFROM:+0100
TZOFFSETTO:+0200
TZNAME:CEST
DTSTART:20250330T010000
END:DAYLIGHT
BEGIN:STANDARD
TZOFFSETFROM:+0200
TZOFFSETTO:+0100
TZNAME:CET
DTSTART:20251026T010000
END:STANDARD
BEGIN:DAYLIGHT
TZOFFSETFROM:+0100
TZOFFSETTO:+0200
TZNAME:CEST
DTSTART:20260329T010000
END:DAYLIGHT
BEGIN:STANDARD
TZOFFSETFROM:+0200
TZOFFSETTO:+0100
TZNAME:CET
DTSTART:20261025T010000
END:STANDARD
END:VTIMEZONE
BEGIN:VEVENT
DTSTART;TZID=Europe/Paris:20250805T000000
DTEND;TZID=Europe/Paris:20250805T235959
DTSTAMP:20260425T032959
CREATED:20250204T100345Z
LAST-MODIFIED:20250204T100345Z
UID:2192-1754352000-1754438399@www.lavogelesbains.fr
SUMMARY:Collecte de Sang
DESCRIPTION:
URL:https://www.lavogelesbains.fr/evenement/collecte-de-sang-2/
END:VEVENT
BEGIN:VEVENT
DTSTART;TZID=Europe/Paris:20250815T000000
DTEND;TZID=Europe/Paris:20250815T235959
DTSTAMP:20260425T032959
CREATED:20250204T100513Z
LAST-MODIFIED:20250204T100513Z
UID:2195-1755216000-1755302399@www.lavogelesbains.fr
SUMMARY:Pique-Nique de Hautmougey
DESCRIPTION:
URL:https://www.lavogelesbains.fr/evenement/pique-nique-de-hautmougey/
END:VEVENT
BEGIN:VEVENT
DTSTART;TZID=Europe/Paris:20250819T080000
DTEND;TZID=Europe/Paris:20250819T170000
DTSTAMP:20260425T032959
CREATED:20250204T102423Z
LAST-MODIFIED:20250204T102423Z
UID:2211-1755590400-1755622800@www.lavogelesbains.fr
SUMMARY:Fête de la St Luc
DESCRIPTION:
URL:https://www.lavogelesbains.fr/evenement/fete-de-la-st-luc/
END:VEVENT
BEGIN:VEVENT
DTSTART;TZID=Europe/Paris:20250820T000000
DTEND;TZID=Europe/Paris:20250820T235959
DTSTAMP:20260425T032959
CREATED:20250415T143356Z
LAST-MODIFIED:20250605T123941Z
UID:2772-1755648000-1755734399@www.lavogelesbains.fr
SUMMARY:Marché Nocturne de La Vôge-les-Bains
DESCRIPTION:
URL:https://www.lavogelesbains.fr/evenement/marche-nocturne-de-la-voge-les-bains-5/
END:VEVENT
END:VCALENDAR