BEGIN:VCALENDAR
VERSION:2.0
PRODID:-//La Vôge-les-Bains - ECPv6.15.20//NONSGML v1.0//EN
CALSCALE:GREGORIAN
METHOD:PUBLISH
X-WR-CALNAME:La Vôge-les-Bains
X-ORIGINAL-URL:https://www.lavogelesbains.fr
X-WR-CALDESC:Évènements pour La Vôge-les-Bains
REFRESH-INTERVAL;VALUE=DURATION:PT1H
X-Robots-Tag:noindex
X-PUBLISHED-TTL:PT1H
BEGIN:VTIMEZONE
TZID:Europe/Paris
BEGIN:DAYLIGHT
TZOFFSETFROM:+0100
TZOFFSETTO:+0200
TZNAME:CEST
DTSTART:20250330T010000
END:DAYLIGHT
BEGIN:STANDARD
TZOFFSETFROM:+0200
TZOFFSETTO:+0100
TZNAME:CET
DTSTART:20251026T010000
END:STANDARD
BEGIN:DAYLIGHT
TZOFFSETFROM:+0100
TZOFFSETTO:+0200
TZNAME:CEST
DTSTART:20260329T010000
END:DAYLIGHT
BEGIN:STANDARD
TZOFFSETFROM:+0200
TZOFFSETTO:+0100
TZNAME:CET
DTSTART:20261025T010000
END:STANDARD
BEGIN:DAYLIGHT
TZOFFSETFROM:+0100
TZOFFSETTO:+0200
TZNAME:CEST
DTSTART:20270328T010000
END:DAYLIGHT
BEGIN:STANDARD
TZOFFSETFROM:+0200
TZOFFSETTO:+0100
TZNAME:CET
DTSTART:20271031T010000
END:STANDARD
END:VTIMEZONE
BEGIN:VEVENT
DTSTART;TZID=Europe/Paris:20260110T150000
DTEND;TZID=Europe/Paris:20260110T160000
DTSTAMP:20260424T192345
CREATED:20260107T092330Z
LAST-MODIFIED:20260107T092330Z
UID:3874-1768057200-1768060800@www.lavogelesbains.fr
SUMMARY:Spectacles des Enfants - CCAS
DESCRIPTION:
URL:https://www.lavogelesbains.fr/evenement/spectacles-des-enfants-ccas/
LOCATION:Salle Marie Benoist\, Place du Dr André LEROY\, La Vôge-les-Bains\, 88240\, France
END:VEVENT
BEGIN:VEVENT
DTSTART;TZID=Europe/Paris:20260121T000000
DTEND;TZID=Europe/Paris:20260121T235959
DTSTAMP:20260424T192345
CREATED:20260107T091957Z
LAST-MODIFIED:20260107T092200Z
UID:3869-1768953600-1769039999@www.lavogelesbains.fr
SUMMARY:Atelier Kamishibaï - "Pièce de Théâtre sur Papier"
DESCRIPTION:
URL:https://www.lavogelesbains.fr/evenement/spectacle-des-enfants-ccas-2/
LOCATION:Médiathèque de Bains-les-Bains\, 5 Rue Général Leclerc\, La Vôge-les-Bains\, 88240\, France
ORGANIZER;CN="M%C3%A9diath%C3%A8que de Bains-les-Bains":MAILTO:mediathequebainslesbains@bmi.agglo-epinal.fr
END:VEVENT
BEGIN:VEVENT
DTSTART;TZID=Europe/Paris:20260121T140000
DTEND;TZID=Europe/Paris:20260121T160000
DTSTAMP:20260424T192345
CREATED:20260107T101502Z
LAST-MODIFIED:20260107T125625Z
UID:3880-1769004000-1769011200@www.lavogelesbains.fr
SUMMARY:Atelier - Peindre à la manière de Van Gogh
DESCRIPTION:
URL:https://www.lavogelesbains.fr/evenement/atelier-peindre-a-la-maniere-de-van-gogh/
LOCATION:Médiathèque de Le Clerjus\, 8 Rue des Écoles\, Le Clerjus\, 88240
ORGANIZER;CN="M%C3%A9diath%C3%A8que de Bains-les-Bains":MAILTO:mediathequebainslesbains@bmi.agglo-epinal.fr
END:VEVENT
BEGIN:VEVENT
DTSTART;TZID=Europe/Paris:20260121T150000
DTEND;TZID=Europe/Paris:20260121T160000
DTSTAMP:20260424T192345
CREATED:20260107T092442Z
LAST-MODIFIED:20260107T092442Z
UID:3878-1769007600-1769011200@www.lavogelesbains.fr
SUMMARY:Atelier Créatif "Ma Ville en Pop-Up"
DESCRIPTION:
URL:https://www.lavogelesbains.fr/evenement/atelier-creatif-ma-ville-en-pop-up/
LOCATION:Médiathèque de Bains-les-Bains\, 5 Rue Général Leclerc\, La Vôge-les-Bains\, 88240\, France
ORGANIZER;CN="M%C3%A9diath%C3%A8que de Bains-les-Bains":MAILTO:mediathequebainslesbains@bmi.agglo-epinal.fr
END:VEVENT
BEGIN:VEVENT
DTSTART;TZID=Europe/Paris:20260123T180000
DTEND;TZID=Europe/Paris:20260123T190000
DTSTAMP:20260424T192345
CREATED:20260107T133522Z
LAST-MODIFIED:20260107T135158Z
UID:3886-1769191200-1769194800@www.lavogelesbains.fr
SUMMARY:Conférence “L'Histoire d’un village thermal"
DESCRIPTION:
URL:https://www.lavogelesbains.fr/evenement/conference-lhistoire-dun-village-thermal/
LOCATION:Médiathèque de Bains-les-Bains\, 5 Rue Général Leclerc\, La Vôge-les-Bains\, 88240\, France
ORGANIZER;CN="M%C3%A9diath%C3%A8que de Bains-les-Bains":MAILTO:mediathequebainslesbains@bmi.agglo-epinal.fr
END:VEVENT
BEGIN:VEVENT
DTSTART;TZID=Europe/Paris:20260127T100000
DTEND;TZID=Europe/Paris:20260127T120000
DTSTAMP:20260424T192345
CREATED:20260107T144843Z
LAST-MODIFIED:20260107T144843Z
UID:3890-1769508000-1769515200@www.lavogelesbains.fr
SUMMARY:Du côté des Bébés
DESCRIPTION:
URL:https://www.lavogelesbains.fr/evenement/du-cote-des-bebes/
LOCATION:Médiathèque de Bains-les-Bains\, 5 Rue Général Leclerc\, La Vôge-les-Bains\, 88240\, France
ORGANIZER;CN="M%C3%A9diath%C3%A8que de Bains-les-Bains":MAILTO:mediathequebainslesbains@bmi.agglo-epinal.fr
END:VEVENT
BEGIN:VEVENT
DTSTART;TZID=Europe/Paris:20260130T200000
DTEND;TZID=Europe/Paris:20260130T230000
DTSTAMP:20260424T192345
CREATED:20260107T145206Z
LAST-MODIFIED:20260107T145206Z
UID:3892-1769803200-1769814000@www.lavogelesbains.fr
SUMMARY:Cérémonie des Voeux Au Maire
DESCRIPTION:
URL:https://www.lavogelesbains.fr/evenement/ceremonie-des-voeux-au-maire-2/
LOCATION:Salle Marie Benoist\, Place du Dr André LEROY\, La Vôge-les-Bains\, 88240\, France
END:VEVENT
END:VCALENDAR