BEGIN:VCALENDAR
VERSION:2.0
PRODID:-//La Vôge-les-Bains - ECPv6.15.20//NONSGML v1.0//EN
CALSCALE:GREGORIAN
METHOD:PUBLISH
X-WR-CALNAME:La Vôge-les-Bains
X-ORIGINAL-URL:https://www.lavogelesbains.fr
X-WR-CALDESC:Évènements pour La Vôge-les-Bains
REFRESH-INTERVAL;VALUE=DURATION:PT1H
X-Robots-Tag:noindex
X-PUBLISHED-TTL:PT1H
BEGIN:VTIMEZONE
TZID:Europe/Paris
BEGIN:DAYLIGHT
TZOFFSETFROM:+0100
TZOFFSETTO:+0200
TZNAME:CEST
DTSTART:20250330T010000
END:DAYLIGHT
BEGIN:STANDARD
TZOFFSETFROM:+0200
TZOFFSETTO:+0100
TZNAME:CET
DTSTART:20251026T010000
END:STANDARD
BEGIN:DAYLIGHT
TZOFFSETFROM:+0100
TZOFFSETTO:+0200
TZNAME:CEST
DTSTART:20260329T010000
END:DAYLIGHT
BEGIN:STANDARD
TZOFFSETFROM:+0200
TZOFFSETTO:+0100
TZNAME:CET
DTSTART:20261025T010000
END:STANDARD
BEGIN:DAYLIGHT
TZOFFSETFROM:+0100
TZOFFSETTO:+0200
TZNAME:CEST
DTSTART:20270328T010000
END:DAYLIGHT
BEGIN:STANDARD
TZOFFSETFROM:+0200
TZOFFSETTO:+0100
TZNAME:CET
DTSTART:20271031T010000
END:STANDARD
END:VTIMEZONE
BEGIN:VEVENT
DTSTART;TZID=Europe/Paris:20260201T000000
DTEND;TZID=Europe/Paris:20260201T235959
DTSTAMP:20260424T174602
CREATED:20260109T150722Z
LAST-MODIFIED:20260109T150722Z
UID:3959-1769904000-1769990399@www.lavogelesbains.fr
SUMMARY:Brocante du 1er Mai - Syndicat des Antiquaires et Brocanteurs des Vosges (SABV)
DESCRIPTION:
URL:https://www.lavogelesbains.fr/evenement/brocante-du-1er-mai-syndicat-des-antiquaires-et-brocanteurs-des-vosges-sabv/
LOCATION:Place de la Fête\, La Vôge-les-Bains\, 88240\, France
END:VEVENT
BEGIN:VEVENT
DTSTART;TZID=Europe/Paris:20260202T160000
DTEND;TZID=Europe/Paris:20260202T193000
DTSTAMP:20260424T174602
CREATED:20260109T140230Z
LAST-MODIFIED:20260109T140513Z
UID:3898-1770048000-1770060600@www.lavogelesbains.fr
SUMMARY:Collecte de Sang
DESCRIPTION:
URL:https://www.lavogelesbains.fr/evenement/collecte-de-sang-3/
LOCATION:Salle Marie Benoist\, Place du Dr André LEROY\, La Vôge-les-Bains\, 88240\, France
END:VEVENT
BEGIN:VEVENT
DTSTART;TZID=Europe/Paris:20260203T080000
DTEND;TZID=Europe/Paris:20260303T170000
DTSTAMP:20260424T174602
CREATED:20260109T134919Z
LAST-MODIFIED:20260109T134919Z
UID:3896-1770105600-1772557200@www.lavogelesbains.fr
SUMMARY:Exposition "Jeux Vidéo" à la Médiathèque
DESCRIPTION:
URL:https://www.lavogelesbains.fr/evenement/exposition-jeux-video-a-la-mediatheque/
LOCATION:Médiathèque de Bains-les-Bains\, 5 Rue Général Leclerc\, La Vôge-les-Bains\, 88240\, France
ORGANIZER;CN="M%C3%A9diath%C3%A8que de Bains-les-Bains":MAILTO:mediathequebainslesbains@bmi.agglo-epinal.fr
END:VEVENT
BEGIN:VEVENT
DTSTART;TZID=Europe/Paris:20260204T000000
DTEND;TZID=Europe/Paris:20260304T235959
DTSTAMP:20260424T174602
CREATED:20260109T140308Z
LAST-MODIFIED:20260109T140635Z
UID:3900-1770163200-1772668799@www.lavogelesbains.fr
SUMMARY:Atelier Scientifique avec les petits débrouillard
DESCRIPTION:
URL:https://www.lavogelesbains.fr/evenement/atelier-scientifique-avec-les-petits-debrouillard/
LOCATION:Médiathèque de Bains-les-Bains\, 5 Rue Général Leclerc\, La Vôge-les-Bains\, 88240\, France
ORGANIZER;CN="M%C3%A9diath%C3%A8que de Bains-les-Bains":MAILTO:mediathequebainslesbains@bmi.agglo-epinal.fr
END:VEVENT
BEGIN:VEVENT
DTSTART;TZID=Europe/Paris:20260205T080000
DTEND;TZID=Europe/Paris:20260329T170000
DTSTAMP:20260424T174602
CREATED:20260109T143057Z
LAST-MODIFIED:20260109T143057Z
UID:3913-1770278400-1774803600@www.lavogelesbains.fr
SUMMARY:Exposition "Les Papillons"
DESCRIPTION:
URL:https://www.lavogelesbains.fr/evenement/exposition-les-papillons/
LOCATION:Médiathèque de Bains-les-Bains\, 5 Rue Général Leclerc\, La Vôge-les-Bains\, 88240\, France
ORGANIZER;CN="M%C3%A9diath%C3%A8que de Bains-les-Bains":MAILTO:mediathequebainslesbains@bmi.agglo-epinal.fr
END:VEVENT
BEGIN:VEVENT
DTSTART;TZID=Europe/Paris:20260206T163000
DTEND;TZID=Europe/Paris:20260206T180000
DTSTAMP:20260424T174602
CREATED:20260109T140437Z
LAST-MODIFIED:20260109T140437Z
UID:3902-1770395400-1770400800@www.lavogelesbains.fr
SUMMARY:Atelier Jeux de Société "À quoi on joue ?"
DESCRIPTION:
URL:https://www.lavogelesbains.fr/evenement/atelier-jeux-de-societe-a-quoi-on-joue/
LOCATION:Médiathèque de Bains-les-Bains\, 5 Rue Général Leclerc\, La Vôge-les-Bains\, 88240\, France
ORGANIZER;CN="M%C3%A9diath%C3%A8que de Bains-les-Bains":MAILTO:mediathequebainslesbains@bmi.agglo-epinal.fr
END:VEVENT
BEGIN:VEVENT
DTSTART;TZID=Europe/Paris:20260207T000000
DTEND;TZID=Europe/Paris:20260207T235959
DTSTAMP:20260424T174602
CREATED:20260109T140708Z
LAST-MODIFIED:20260109T140708Z
UID:3905-1770422400-1770508799@www.lavogelesbains.fr
SUMMARY:Loto des Enfants (AM) + Concours de Belote (Soir)
DESCRIPTION:
URL:https://www.lavogelesbains.fr/evenement/loto-des-enfants-am-concours-de-belote-soir/
LOCATION:Salle Marie Benoist\, Place du Dr André LEROY\, La Vôge-les-Bains\, 88240\, France
END:VEVENT
BEGIN:VEVENT
DTSTART;TZID=Europe/Paris:20260211T103000
DTEND;TZID=Europe/Paris:20260211T120000
DTSTAMP:20260424T174602
CREATED:20260109T142520Z
LAST-MODIFIED:20260109T142520Z
UID:3907-1770805800-1770811200@www.lavogelesbains.fr
SUMMARY:Heure du Conte Spéciale 'Imaginaire"
DESCRIPTION:
URL:https://www.lavogelesbains.fr/evenement/heure-du-conte-speciale-imaginaire/
LOCATION:Médiathèque de Bains-les-Bains\, 5 Rue Général Leclerc\, La Vôge-les-Bains\, 88240\, France
ORGANIZER;CN="M%C3%A9diath%C3%A8que de Bains-les-Bains":MAILTO:mediathequebainslesbains@bmi.agglo-epinal.fr
END:VEVENT
BEGIN:VEVENT
DTSTART;TZID=Europe/Paris:20260213T000000
DTEND;TZID=Europe/Paris:20260213T235959
DTSTAMP:20260424T174602
CREATED:20260109T142601Z
LAST-MODIFIED:20260109T142601Z
UID:3909-1770940800-1771027199@www.lavogelesbains.fr
SUMMARY:"Mario Kart Live - Soirée Jeux (17h) Soirée Jeux Vidéo (Mycéliades / 18h)"
DESCRIPTION:
URL:https://www.lavogelesbains.fr/evenement/mario-kart-live-soiree-jeux-17h-soiree-jeux-video-myceliades-18h/
LOCATION:Médiathèque de Bains-les-Bains\, 5 Rue Général Leclerc\, La Vôge-les-Bains\, 88240\, France
ORGANIZER;CN="M%C3%A9diath%C3%A8que de Bains-les-Bains":MAILTO:mediathequebainslesbains@bmi.agglo-epinal.fr
END:VEVENT
BEGIN:VEVENT
DTSTART;TZID=Europe/Paris:20260215T000000
DTEND;TZID=Europe/Paris:20260215T235959
DTSTAMP:20260424T174602
CREATED:20260109T142632Z
LAST-MODIFIED:20260109T142632Z
UID:3911-1771113600-1771199999@www.lavogelesbains.fr
SUMMARY:Carnaval de Bonndorf
DESCRIPTION:
URL:https://www.lavogelesbains.fr/evenement/carnaval-de-bonndorf-2/
END:VEVENT
BEGIN:VEVENT
DTSTART;TZID=Europe/Paris:20260219T000000
DTEND;TZID=Europe/Paris:20260219T235959
DTSTAMP:20260424T174602
CREATED:20260109T150210Z
LAST-MODIFIED:20260109T150210Z
UID:3948-1771459200-1771545599@www.lavogelesbains.fr
SUMMARY:Marche Populaire
DESCRIPTION:
URL:https://www.lavogelesbains.fr/evenement/marche-populaire/
ORGANIZER;CN="Amicale des Sapeurs-Pompiers de Harsault":MAILTO:emeric.monne@outlook.fr
END:VEVENT
END:VCALENDAR