BEGIN:VCALENDAR
VERSION:2.0
PRODID:-//La Vôge-les-Bains - ECPv6.15.20//NONSGML v1.0//EN
CALSCALE:GREGORIAN
METHOD:PUBLISH
X-WR-CALNAME:La Vôge-les-Bains
X-ORIGINAL-URL:https://www.lavogelesbains.fr
X-WR-CALDESC:Évènements pour La Vôge-les-Bains
REFRESH-INTERVAL;VALUE=DURATION:PT1H
X-Robots-Tag:noindex
X-PUBLISHED-TTL:PT1H
BEGIN:VTIMEZONE
TZID:Europe/Paris
BEGIN:DAYLIGHT
TZOFFSETFROM:+0100
TZOFFSETTO:+0200
TZNAME:CEST
DTSTART:20250330T010000
END:DAYLIGHT
BEGIN:STANDARD
TZOFFSETFROM:+0200
TZOFFSETTO:+0100
TZNAME:CET
DTSTART:20251026T010000
END:STANDARD
BEGIN:DAYLIGHT
TZOFFSETFROM:+0100
TZOFFSETTO:+0200
TZNAME:CEST
DTSTART:20260329T010000
END:DAYLIGHT
BEGIN:STANDARD
TZOFFSETFROM:+0200
TZOFFSETTO:+0100
TZNAME:CET
DTSTART:20261025T010000
END:STANDARD
BEGIN:DAYLIGHT
TZOFFSETFROM:+0100
TZOFFSETTO:+0200
TZNAME:CEST
DTSTART:20270328T010000
END:DAYLIGHT
BEGIN:STANDARD
TZOFFSETFROM:+0200
TZOFFSETTO:+0100
TZNAME:CET
DTSTART:20271031T010000
END:STANDARD
END:VTIMEZONE
BEGIN:VEVENT
DTSTART;TZID=Europe/Paris:20260203T080000
DTEND;TZID=Europe/Paris:20260303T170000
DTSTAMP:20260424T160613
CREATED:20260109T134919Z
LAST-MODIFIED:20260109T134919Z
UID:3896-1770105600-1772557200@www.lavogelesbains.fr
SUMMARY:Exposition "Jeux Vidéo" à la Médiathèque
DESCRIPTION:
URL:https://www.lavogelesbains.fr/evenement/exposition-jeux-video-a-la-mediatheque/
LOCATION:Médiathèque de Bains-les-Bains\, 5 Rue Général Leclerc\, La Vôge-les-Bains\, 88240\, France
ORGANIZER;CN="M%C3%A9diath%C3%A8que de Bains-les-Bains":MAILTO:mediathequebainslesbains@bmi.agglo-epinal.fr
END:VEVENT
BEGIN:VEVENT
DTSTART;TZID=Europe/Paris:20260204T000000
DTEND;TZID=Europe/Paris:20260304T235959
DTSTAMP:20260424T160613
CREATED:20260109T140308Z
LAST-MODIFIED:20260109T140635Z
UID:3900-1770163200-1772668799@www.lavogelesbains.fr
SUMMARY:Atelier Scientifique avec les petits débrouillard
DESCRIPTION:
URL:https://www.lavogelesbains.fr/evenement/atelier-scientifique-avec-les-petits-debrouillard/
LOCATION:Médiathèque de Bains-les-Bains\, 5 Rue Général Leclerc\, La Vôge-les-Bains\, 88240\, France
ORGANIZER;CN="M%C3%A9diath%C3%A8que de Bains-les-Bains":MAILTO:mediathequebainslesbains@bmi.agglo-epinal.fr
END:VEVENT
BEGIN:VEVENT
DTSTART;TZID=Europe/Paris:20260205T080000
DTEND;TZID=Europe/Paris:20260329T170000
DTSTAMP:20260424T160613
CREATED:20260109T143057Z
LAST-MODIFIED:20260109T143057Z
UID:3913-1770278400-1774803600@www.lavogelesbains.fr
SUMMARY:Exposition "Les Papillons"
DESCRIPTION:
URL:https://www.lavogelesbains.fr/evenement/exposition-les-papillons/
LOCATION:Médiathèque de Bains-les-Bains\, 5 Rue Général Leclerc\, La Vôge-les-Bains\, 88240\, France
ORGANIZER;CN="M%C3%A9diath%C3%A8que de Bains-les-Bains":MAILTO:mediathequebainslesbains@bmi.agglo-epinal.fr
END:VEVENT
BEGIN:VEVENT
DTSTART;TZID=Europe/Paris:20260301T000000
DTEND;TZID=Europe/Paris:20260301T235959
DTSTAMP:20260424T160613
CREATED:20260109T150629Z
LAST-MODIFIED:20260109T150629Z
UID:3957-1772323200-1772409599@www.lavogelesbains.fr
SUMMARY:Enjoy Vélo - Communauté d'Agglomération d'Épinal
DESCRIPTION:
URL:https://www.lavogelesbains.fr/evenement/enjoy-velo-communaute-dagglomeration-depinal/
END:VEVENT
BEGIN:VEVENT
DTSTART;TZID=Europe/Paris:20260301T153000
DTEND;TZID=Europe/Paris:20260301T170000
DTSTAMP:20260424T160613
CREATED:20260223T082910Z
LAST-MODIFIED:20260223T082910Z
UID:4373-1772379000-1772384400@www.lavogelesbains.fr
SUMMARY:Concert de la Chandeleur
DESCRIPTION:
URL:https://www.lavogelesbains.fr/evenement/concert-de-la-chandeleur-2/
END:VEVENT
BEGIN:VEVENT
DTSTART;TZID=Europe/Paris:20260307T000000
DTEND;TZID=Europe/Paris:20260307T235959
DTSTAMP:20260424T160613
CREATED:20260116T144716Z
LAST-MODIFIED:20260116T150124Z
UID:4248-1772841600-1772927999@www.lavogelesbains.fr
SUMMARY:Opération J'aime la Nature Propre (JLNP) - Société de Chasse de Bains-les-Bains
DESCRIPTION:
URL:https://www.lavogelesbains.fr/evenement/operation-jaime-la-nature-propre-jlnp-societe-de-chasse-de-bains-les-bains/
END:VEVENT
BEGIN:VEVENT
DTSTART;TZID=Europe/Paris:20260307T150000
DTEND;TZID=Europe/Paris:20260307T170000
DTSTAMP:20260424T160613
CREATED:20260109T143255Z
LAST-MODIFIED:20260109T143255Z
UID:3915-1772895600-1772902800@www.lavogelesbains.fr
SUMMARY:Escape Game
DESCRIPTION:
URL:https://www.lavogelesbains.fr/evenement/escape-game/
LOCATION:Médiathèque de Bains-les-Bains\, 5 Rue Général Leclerc\, La Vôge-les-Bains\, 88240\, France
ORGANIZER;CN="M%C3%A9diath%C3%A8que de Bains-les-Bains":MAILTO:mediathequebainslesbains@bmi.agglo-epinal.fr
END:VEVENT
BEGIN:VEVENT
DTSTART;TZID=Europe/Paris:20260308T000000
DTEND;TZID=Europe/Paris:20260308T235959
DTSTAMP:20260424T160613
CREATED:20260304T143400Z
LAST-MODIFIED:20260304T143400Z
UID:4545-1772928000-1773014399@www.lavogelesbains.fr
SUMMARY:Marche de 8\,5km - Circuit de la Gare
DESCRIPTION:
URL:https://www.lavogelesbains.fr/evenement/marche-de-85km-circuit-de-la-gare/
END:VEVENT
BEGIN:VEVENT
DTSTART;TZID=Europe/Paris:20260317T000000
DTEND;TZID=Europe/Paris:20260930T235959
DTSTAMP:20260424T160613
CREATED:20260109T143428Z
LAST-MODIFIED:20260109T144131Z
UID:3918-1773705600-1790812799@www.lavogelesbains.fr
SUMMARY:Conférences autour du thème ""Indigènes""  / Exposition Photos ""Les Goumiers""  / Escape Game ""Indigènes"
DESCRIPTION:
URL:https://www.lavogelesbains.fr/evenement/heure-du-conte-speciale-printemps/
LOCATION:Moulin au Bois
END:VEVENT
BEGIN:VEVENT
DTSTART;TZID=Europe/Paris:20260317T000000
DTEND;TZID=Europe/Paris:20260317T235959
DTSTAMP:20260424T160613
CREATED:20260109T144253Z
LAST-MODIFIED:20260109T144253Z
UID:3926-1773705600-1773791999@www.lavogelesbains.fr
SUMMARY:Projection "Indigènes" à Épinal et/ou à Bains dans le cadre du Festival "Épinal fait son cinéma" - semaine 17-22 mars
DESCRIPTION:
URL:https://www.lavogelesbains.fr/evenement/projection-indigenes-a-epinal-et-ou-a-bains-dans-le-cadre-du-festival-epinal-fait-son-cinema-semaine-17-22-mars/
END:VEVENT
BEGIN:VEVENT
DTSTART;TZID=Europe/Paris:20260317T100000
DTEND;TZID=Europe/Paris:20260317T120000
DTSTAMP:20260424T160613
CREATED:20260109T144214Z
LAST-MODIFIED:20260109T144214Z
UID:3924-1773741600-1773748800@www.lavogelesbains.fr
SUMMARY:Du côté des bébés
DESCRIPTION:
URL:https://www.lavogelesbains.fr/evenement/du-cote-des-bebes-2/
LOCATION:Médiathèque de Bains-les-Bains\, 5 Rue Général Leclerc\, La Vôge-les-Bains\, 88240\, France
ORGANIZER;CN="M%C3%A9diath%C3%A8que de Bains-les-Bains":MAILTO:mediathequebainslesbains@bmi.agglo-epinal.fr
END:VEVENT
BEGIN:VEVENT
DTSTART;TZID=Europe/Paris:20260318T000000
DTEND;TZID=Europe/Paris:20260318T235959
DTSTAMP:20260424T160613
CREATED:20260109T144353Z
LAST-MODIFIED:20260109T144407Z
UID:3928-1773792000-1773878399@www.lavogelesbains.fr
SUMMARY:Atelier Créatif "Poèmes en Folie" (Printemps des Poètes)
DESCRIPTION:
URL:https://www.lavogelesbains.fr/evenement/atelier-creatif-poemes-en-folie-printemps-des-poetes/
LOCATION:Médiathèque de Bains-les-Bains\, 5 Rue Général Leclerc\, La Vôge-les-Bains\, 88240\, France
ORGANIZER;CN="M%C3%A9diath%C3%A8que de Bains-les-Bains":MAILTO:mediathequebainslesbains@bmi.agglo-epinal.fr
END:VEVENT
BEGIN:VEVENT
DTSTART;TZID=Europe/Paris:20260318T173000
DTEND;TZID=Europe/Paris:20260318T200000
DTSTAMP:20260424T160613
CREATED:20260109T144518Z
LAST-MODIFIED:20260109T144632Z
UID:3930-1773855000-1773864000@www.lavogelesbains.fr
SUMMARY:Ciné Concert - Ensemble Orchestral Épinal La Belle Image
DESCRIPTION:
URL:https://www.lavogelesbains.fr/evenement/cine-concert-ensemble-orchestral-epinal-la-belle-image/
END:VEVENT
BEGIN:VEVENT
DTSTART;TZID=Europe/Paris:20260322T000000
DTEND;TZID=Europe/Paris:20260322T235959
DTSTAMP:20260424T160613
CREATED:20260304T143630Z
LAST-MODIFIED:20260304T143630Z
UID:4549-1774137600-1774223999@www.lavogelesbains.fr
SUMMARY:Marche - Circuit La Corêt
DESCRIPTION:
URL:https://www.lavogelesbains.fr/evenement/marche-circuit-la-coret/
END:VEVENT
BEGIN:VEVENT
DTSTART;TZID=Europe/Paris:20260324T100000
DTEND;TZID=Europe/Paris:20260324T170000
DTSTAMP:20260424T160613
CREATED:20260109T145238Z
LAST-MODIFIED:20260109T145238Z
UID:3933-1774346400-1774371600@www.lavogelesbains.fr
SUMMARY:Séance de Relaxation
DESCRIPTION:
URL:https://www.lavogelesbains.fr/evenement/seance-de-relaxation/
LOCATION:Médiathèque de Bains-les-Bains\, 5 Rue Général Leclerc\, La Vôge-les-Bains\, 88240\, France
ORGANIZER;CN="M%C3%A9diath%C3%A8que de Bains-les-Bains":MAILTO:mediathequebainslesbains@bmi.agglo-epinal.fr
END:VEVENT
BEGIN:VEVENT
DTSTART;TZID=Europe/Paris:20260325T000000
DTEND;TZID=Europe/Paris:20260325T235959
DTSTAMP:20260424T160613
CREATED:20260109T145337Z
LAST-MODIFIED:20260109T145337Z
UID:3935-1774396800-1774483199@www.lavogelesbains.fr
SUMMARY:Atelier Créatif "Mon Masque de Carnaval"
DESCRIPTION:
URL:https://www.lavogelesbains.fr/evenement/atelier-creatif-mon-masque-de-carnaval/
LOCATION:Médiathèque de Bains-les-Bains\, 5 Rue Général Leclerc\, La Vôge-les-Bains\, 88240\, France
ORGANIZER;CN="M%C3%A9diath%C3%A8que de Bains-les-Bains":MAILTO:mediathequebainslesbains@bmi.agglo-epinal.fr
END:VEVENT
BEGIN:VEVENT
DTSTART;TZID=Europe/Paris:20260327T163000
DTEND;TZID=Europe/Paris:20260327T173000
DTSTAMP:20260424T160613
CREATED:20260109T145428Z
LAST-MODIFIED:20260109T145428Z
UID:3937-1774629000-1774632600@www.lavogelesbains.fr
SUMMARY:Atelier Jeux de Société "À quoi on joue ?"
DESCRIPTION:
URL:https://www.lavogelesbains.fr/evenement/atelier-jeux-de-societe-a-quoi-on-joue-2/
LOCATION:Médiathèque de Bains-les-Bains\, 5 Rue Général Leclerc\, La Vôge-les-Bains\, 88240\, France
ORGANIZER;CN="M%C3%A9diath%C3%A8que de Bains-les-Bains":MAILTO:mediathequebainslesbains@bmi.agglo-epinal.fr
END:VEVENT
BEGIN:VEVENT
DTSTART;TZID=Europe/Paris:20260328T000000
DTEND;TZID=Europe/Paris:20260328T235959
DTSTAMP:20260424T160613
CREATED:20260109T145505Z
LAST-MODIFIED:20260109T145505Z
UID:3939-1774656000-1774742399@www.lavogelesbains.fr
SUMMARY:Carnaval de La Vôge-les-Bains
DESCRIPTION:
URL:https://www.lavogelesbains.fr/evenement/carnaval-de-la-voge-les-bains-2/
END:VEVENT
END:VCALENDAR