BEGIN:VCALENDAR
VERSION:2.0
PRODID:-//La Vôge-les-Bains - ECPv6.15.20//NONSGML v1.0//EN
CALSCALE:GREGORIAN
METHOD:PUBLISH
X-ORIGINAL-URL:https://www.lavogelesbains.fr
X-WR-CALDESC:Évènements pour La Vôge-les-Bains
REFRESH-INTERVAL;VALUE=DURATION:PT1H
X-Robots-Tag:noindex
X-PUBLISHED-TTL:PT1H
BEGIN:VTIMEZONE
TZID:Europe/Paris
BEGIN:DAYLIGHT
TZOFFSETFROM:+0100
TZOFFSETTO:+0200
TZNAME:CEST
DTSTART:20250330T010000
END:DAYLIGHT
BEGIN:STANDARD
TZOFFSETFROM:+0200
TZOFFSETTO:+0100
TZNAME:CET
DTSTART:20251026T010000
END:STANDARD
BEGIN:DAYLIGHT
TZOFFSETFROM:+0100
TZOFFSETTO:+0200
TZNAME:CEST
DTSTART:20260329T010000
END:DAYLIGHT
BEGIN:STANDARD
TZOFFSETFROM:+0200
TZOFFSETTO:+0100
TZNAME:CET
DTSTART:20261025T010000
END:STANDARD
BEGIN:DAYLIGHT
TZOFFSETFROM:+0100
TZOFFSETTO:+0200
TZNAME:CEST
DTSTART:20270328T010000
END:DAYLIGHT
BEGIN:STANDARD
TZOFFSETFROM:+0200
TZOFFSETTO:+0100
TZNAME:CET
DTSTART:20271031T010000
END:STANDARD
END:VTIMEZONE
BEGIN:VEVENT
DTSTART;TZID=Europe/Paris:20260317T000000
DTEND;TZID=Europe/Paris:20260930T235959
DTSTAMP:20260424T203917
CREATED:20260109T143428Z
LAST-MODIFIED:20260109T144131Z
UID:3918-1773705600-1790812799@www.lavogelesbains.fr
SUMMARY:Conférences autour du thème ""Indigènes""  / Exposition Photos ""Les Goumiers""  / Escape Game ""Indigènes"
DESCRIPTION:
URL:https://www.lavogelesbains.fr/evenement/heure-du-conte-speciale-printemps/
LOCATION:Moulin au Bois
END:VEVENT
BEGIN:VEVENT
DTSTART;TZID=Europe/Paris:20260802T000000
DTEND;TZID=Europe/Paris:20260802T235959
DTSTAMP:20260424T203917
CREATED:20260112T092958Z
LAST-MODIFIED:20260112T092958Z
UID:4043-1785628800-1785715199@www.lavogelesbains.fr
SUMMARY:Brocante
DESCRIPTION:
URL:https://www.lavogelesbains.fr/evenement/brocante/
LOCATION:Gruey les Surances\, 4 rue de l'Église\, Gruey-lès-Surances\, 88221
END:VEVENT
BEGIN:VEVENT
DTSTART;TZID=Europe/Paris:20260803T160000
DTEND;TZID=Europe/Paris:20260803T193000
DTSTAMP:20260424T203917
CREATED:20260112T093218Z
LAST-MODIFIED:20260112T093218Z
UID:4047-1785772800-1785785400@www.lavogelesbains.fr
SUMMARY:Collecte de Sang
DESCRIPTION:
URL:https://www.lavogelesbains.fr/evenement/collecte-de-sang-6/
LOCATION:Salle Marie Benoist\, Place du Dr André LEROY\, La Vôge-les-Bains\, 88240\, France
END:VEVENT
BEGIN:VEVENT
DTSTART;TZID=Europe/Paris:20260804T000000
DTEND;TZID=Europe/Paris:20260804T235959
DTSTAMP:20260424T203917
CREATED:20260112T093402Z
LAST-MODIFIED:20260112T093402Z
UID:4049-1785801600-1785887999@www.lavogelesbains.fr
SUMMARY:Rallye Patrimonial
DESCRIPTION:
URL:https://www.lavogelesbains.fr/evenement/rallye-patrimonial-5/
LOCATION:La Vôge-les-Bains\, Bains-les-Bains\, 88240
END:VEVENT
BEGIN:VEVENT
DTSTART;TZID=Europe/Paris:20260804T000000
DTEND;TZID=Europe/Paris:20260804T235959
DTSTAMP:20260424T203917
CREATED:20260112T102604Z
LAST-MODIFIED:20260112T102604Z
UID:4065-1785801600-1785887999@www.lavogelesbains.fr
SUMMARY:Forum des Associations
DESCRIPTION:
URL:https://www.lavogelesbains.fr/evenement/forum-des-associations/
LOCATION:Xertigny\, Xertigny\, 88530
END:VEVENT
BEGIN:VEVENT
DTSTART;TZID=Europe/Paris:20260814T000000
DTEND;TZID=Europe/Paris:20260816T235959
DTSTAMP:20260424T203917
CREATED:20260112T094056Z
LAST-MODIFIED:20260112T094056Z
UID:4057-1786665600-1786924799@www.lavogelesbains.fr
SUMMARY:4es Rencontres d’Artistes de la Manufacture avec exposition et ventes d’oeuvres et\, le samedi\, un dîner/soirée « guinguette »\, en présence des artistes
DESCRIPTION:
URL:https://www.lavogelesbains.fr/evenement/4es-rencontres-dartistes-de-la-manufacture-avec-exposition-et-ventes-doeuvres-et-le-samedi-un-diner-soiree-guinguette-en-presence-des-artistes/
LOCATION:La Manufacture Royale\, 10 La Manufacture\, La Vôge-les-Bains\, 88240\, France
END:VEVENT
BEGIN:VEVENT
DTSTART;TZID=Europe/Paris:20260815T000000
DTEND;TZID=Europe/Paris:20260815T235959
DTSTAMP:20260424T203917
CREATED:20260112T093940Z
LAST-MODIFIED:20260112T093940Z
UID:4053-1786752000-1786838399@www.lavogelesbains.fr
SUMMARY:Vide-Grenier
DESCRIPTION:
URL:https://www.lavogelesbains.fr/evenement/vide-grenier/
LOCATION:Trémonzey\, 15 place du Centre\, Trémonzey\, Sélectionner un État :\, 88240\, France
END:VEVENT
BEGIN:VEVENT
DTSTART;TZID=Europe/Paris:20260823T000000
DTEND;TZID=Europe/Paris:20260823T235959
DTSTAMP:20260424T203917
CREATED:20260112T094323Z
LAST-MODIFIED:20260112T094323Z
UID:4059-1787443200-1787529599@www.lavogelesbains.fr
SUMMARY:Fêtes des Artisans d'Art
DESCRIPTION:
URL:https://www.lavogelesbains.fr/evenement/fetes-des-artisans-dart/
LOCATION:La Féculerie\, Moulin Gentrey 1200\, Harsault\, 88240
END:VEVENT
END:VCALENDAR