BEGIN:VCALENDAR
VERSION:2.0
PRODID:-//La Vôge-les-Bains - ECPv6.15.20//NONSGML v1.0//EN
CALSCALE:GREGORIAN
METHOD:PUBLISH
X-ORIGINAL-URL:https://www.lavogelesbains.fr
X-WR-CALDESC:Évènements pour La Vôge-les-Bains
REFRESH-INTERVAL;VALUE=DURATION:PT1H
X-Robots-Tag:noindex
X-PUBLISHED-TTL:PT1H
BEGIN:VTIMEZONE
TZID:Europe/Paris
BEGIN:DAYLIGHT
TZOFFSETFROM:+0100
TZOFFSETTO:+0200
TZNAME:CEST
DTSTART:20250330T010000
END:DAYLIGHT
BEGIN:STANDARD
TZOFFSETFROM:+0200
TZOFFSETTO:+0100
TZNAME:CET
DTSTART:20251026T010000
END:STANDARD
BEGIN:DAYLIGHT
TZOFFSETFROM:+0100
TZOFFSETTO:+0200
TZNAME:CEST
DTSTART:20260329T010000
END:DAYLIGHT
BEGIN:STANDARD
TZOFFSETFROM:+0200
TZOFFSETTO:+0100
TZNAME:CET
DTSTART:20261025T010000
END:STANDARD
BEGIN:DAYLIGHT
TZOFFSETFROM:+0100
TZOFFSETTO:+0200
TZNAME:CEST
DTSTART:20270328T010000
END:DAYLIGHT
BEGIN:STANDARD
TZOFFSETFROM:+0200
TZOFFSETTO:+0100
TZNAME:CET
DTSTART:20271031T010000
END:STANDARD
END:VTIMEZONE
BEGIN:VEVENT
DTSTART;TZID=Europe/Paris:20260317T000000
DTEND;TZID=Europe/Paris:20260930T235959
DTSTAMP:20260424T222341
CREATED:20260109T143428Z
LAST-MODIFIED:20260109T144131Z
UID:3918-1773705600-1790812799@www.lavogelesbains.fr
SUMMARY:Conférences autour du thème ""Indigènes""  / Exposition Photos ""Les Goumiers""  / Escape Game ""Indigènes"
DESCRIPTION:
URL:https://www.lavogelesbains.fr/evenement/heure-du-conte-speciale-printemps/
LOCATION:Moulin au Bois
END:VEVENT
BEGIN:VEVENT
DTSTART;TZID=Europe/Paris:20260901T000000
DTEND;TZID=Europe/Paris:20260901T235959
DTSTAMP:20260424T222341
CREATED:20260112T102219Z
LAST-MODIFIED:20260112T102219Z
UID:4063-1788220800-1788307199@www.lavogelesbains.fr
SUMMARY:Rallye Patrimonial
DESCRIPTION:
URL:https://www.lavogelesbains.fr/evenement/rallye-patrimonial-6/
LOCATION:La Vôge-les-Bains\, Bains-les-Bains\, 88240
END:VEVENT
BEGIN:VEVENT
DTSTART;TZID=Europe/Paris:20260906T000000
DTEND;TZID=Europe/Paris:20260906T235959
DTSTAMP:20260424T222341
CREATED:20260112T103712Z
LAST-MODIFIED:20260112T103712Z
UID:4068-1788652800-1788739199@www.lavogelesbains.fr
SUMMARY:82ème anniversaire du Maquis de Grandrupt
DESCRIPTION:
URL:https://www.lavogelesbains.fr/evenement/82eme-anniversaire-du-maquis-de-grandrupt/
END:VEVENT
BEGIN:VEVENT
DTSTART;TZID=Europe/Paris:20260911T000000
DTEND;TZID=Europe/Paris:20260913T235959
DTSTAMP:20260424T222341
CREATED:20260112T140926Z
LAST-MODIFIED:20260112T140926Z
UID:4076-1789084800-1789343999@www.lavogelesbains.fr
SUMMARY:Festival "Ô Les Bains!" - 6ème édition
DESCRIPTION:
URL:https://www.lavogelesbains.fr/evenement/festival-o-les-bains-6eme-edition/
LOCATION:La Vôge-les-Bains\, Bains-les-Bains\, 88240
END:VEVENT
BEGIN:VEVENT
DTSTART;TZID=Europe/Paris:20260912T000000
DTEND;TZID=Europe/Paris:20260912T235959
DTSTAMP:20260424T222341
CREATED:20260112T103836Z
LAST-MODIFIED:20260112T103836Z
UID:4070-1789171200-1789257599@www.lavogelesbains.fr
SUMMARY:Ballade "Au Fil de L'eau" avec Pauses Relaxation Sonore
DESCRIPTION:
URL:https://www.lavogelesbains.fr/evenement/ballade-au-fil-de-leau-avec-pauses-relaxation-sonore/
LOCATION:Moulin au Bois
END:VEVENT
BEGIN:VEVENT
DTSTART;TZID=Europe/Paris:20260912T000000
DTEND;TZID=Europe/Paris:20260912T235959
DTSTAMP:20260424T222341
CREATED:20260112T104357Z
LAST-MODIFIED:20260112T104357Z
UID:4072-1789171200-1789257599@www.lavogelesbains.fr
SUMMARY:Stand "Nichoir Kerterre" au Festival Ô les Bains!
DESCRIPTION:
URL:https://www.lavogelesbains.fr/evenement/stand-nichoir-kerterre-au-festival-o-les-bains/
LOCATION:Moulin au Bois
END:VEVENT
BEGIN:VEVENT
DTSTART;TZID=Europe/Paris:20260912T000000
DTEND;TZID=Europe/Paris:20260912T235959
DTSTAMP:20260424T222341
CREATED:20260112T104603Z
LAST-MODIFIED:20260112T104603Z
UID:4074-1789171200-1789257599@www.lavogelesbains.fr
SUMMARY:La Nuit des étoiles
DESCRIPTION:
URL:https://www.lavogelesbains.fr/evenement/la-nuit-des-etoiles/
LOCATION:Moulin au Bois
END:VEVENT
BEGIN:VEVENT
DTSTART;TZID=Europe/Paris:20260919T000000
DTEND;TZID=Europe/Paris:20260920T235959
DTSTAMP:20260424T222341
CREATED:20260112T141200Z
LAST-MODIFIED:20260112T141200Z
UID:4078-1789776000-1789948799@www.lavogelesbains.fr
SUMMARY:Journées du Patrimoine avec inauguration de la nouvelle exposition et lancement de l’Escape game
DESCRIPTION:
URL:https://www.lavogelesbains.fr/evenement/journees-du-patrimoine-avec-inauguration-de-la-nouvelle-exposition-et-lancement-de-lescape-game/
LOCATION:La Manufacture Royale\, 10 La Manufacture\, La Vôge-les-Bains\, 88240\, France
END:VEVENT
BEGIN:VEVENT
DTSTART;TZID=Europe/Paris:20260924T160000
DTEND;TZID=Europe/Paris:20260924T193000
DTSTAMP:20260424T222341
CREATED:20260112T141327Z
LAST-MODIFIED:20260112T141327Z
UID:4080-1790265600-1790278200@www.lavogelesbains.fr
SUMMARY:Collecte de Sang
DESCRIPTION:
URL:https://www.lavogelesbains.fr/evenement/collecte-de-sang-7/
LOCATION:Xertigny\, Xertigny\, 88530
END:VEVENT
BEGIN:VEVENT
DTSTART;TZID=Europe/Paris:20260926T000000
DTEND;TZID=Europe/Paris:20260927T235959
DTSTAMP:20260424T222341
CREATED:20260112T142534Z
LAST-MODIFIED:20260112T142534Z
UID:4082-1790380800-1790553599@www.lavogelesbains.fr
SUMMARY:"Fête de la Saint-Maurice :  Manèges\, Marché artisanal et Vide-Grenier"
DESCRIPTION:
URL:https://www.lavogelesbains.fr/evenement/fete-de-la-saint-maurice-maneges-marche-artisanal-et-vide-grenier/
LOCATION:Le Clerjus\, Place du Champ-de-Foire\, Le Clerjus\, 88240
END:VEVENT
END:VCALENDAR