BEGIN:VCALENDAR
VERSION:2.0
PRODID:-//La Vôge-les-Bains - ECPv6.15.20//NONSGML v1.0//EN
CALSCALE:GREGORIAN
METHOD:PUBLISH
X-WR-CALNAME:La Vôge-les-Bains
X-ORIGINAL-URL:https://www.lavogelesbains.fr
X-WR-CALDESC:Évènements pour La Vôge-les-Bains
REFRESH-INTERVAL;VALUE=DURATION:PT1H
X-Robots-Tag:noindex
X-PUBLISHED-TTL:PT1H
BEGIN:VTIMEZONE
TZID:Europe/Paris
BEGIN:DAYLIGHT
TZOFFSETFROM:+0100
TZOFFSETTO:+0200
TZNAME:CEST
DTSTART:20250330T010000
END:DAYLIGHT
BEGIN:STANDARD
TZOFFSETFROM:+0200
TZOFFSETTO:+0100
TZNAME:CET
DTSTART:20251026T010000
END:STANDARD
BEGIN:DAYLIGHT
TZOFFSETFROM:+0100
TZOFFSETTO:+0200
TZNAME:CEST
DTSTART:20260329T010000
END:DAYLIGHT
BEGIN:STANDARD
TZOFFSETFROM:+0200
TZOFFSETTO:+0100
TZNAME:CET
DTSTART:20261025T010000
END:STANDARD
BEGIN:DAYLIGHT
TZOFFSETFROM:+0100
TZOFFSETTO:+0200
TZNAME:CEST
DTSTART:20270328T010000
END:DAYLIGHT
BEGIN:STANDARD
TZOFFSETFROM:+0200
TZOFFSETTO:+0100
TZNAME:CET
DTSTART:20271031T010000
END:STANDARD
END:VTIMEZONE
BEGIN:VEVENT
DTSTART;TZID=Europe/Paris:20261101T000000
DTEND;TZID=Europe/Paris:20261102T235959
DTSTAMP:20260425T012931
CREATED:20260112T151149Z
LAST-MODIFIED:20260112T151149Z
UID:4105-1793491200-1793663999@www.lavogelesbains.fr
SUMMARY:Concours de Pêche
DESCRIPTION:
URL:https://www.lavogelesbains.fr/evenement/concours-de-peche-3/
LOCATION:La Forge de Thunimont
END:VEVENT
BEGIN:VEVENT
DTSTART;TZID=Europe/Paris:20261111T000000
DTEND;TZID=Europe/Paris:20261111T235959
DTSTAMP:20260425T012931
CREATED:20260112T151251Z
LAST-MODIFIED:20260112T151251Z
UID:4107-1794355200-1794441599@www.lavogelesbains.fr
SUMMARY:Cérémonie - Armistice 1918
DESCRIPTION:
URL:https://www.lavogelesbains.fr/evenement/ceremonie-armistice-1918-2/
LOCATION:La Vôge-les-Bains\, Bains-les-Bains\, 88240
END:VEVENT
BEGIN:VEVENT
DTSTART;TZID=Europe/Paris:20261112T160000
DTEND;TZID=Europe/Paris:20261112T193000
DTSTAMP:20260425T012931
CREATED:20260112T151427Z
LAST-MODIFIED:20260112T151427Z
UID:4109-1794499200-1794511800@www.lavogelesbains.fr
SUMMARY:Collecte de Sang
DESCRIPTION:
URL:https://www.lavogelesbains.fr/evenement/collecte-de-sang-8/
LOCATION:Bains-les-Bains\, Bains-les-Bains\, 88240
END:VEVENT
BEGIN:VEVENT
DTSTART;TZID=Europe/Paris:20261113T000000
DTEND;TZID=Europe/Paris:20261113T235959
DTSTAMP:20260425T012931
CREATED:20260112T151511Z
LAST-MODIFIED:20260112T151511Z
UID:4112-1794528000-1794614399@www.lavogelesbains.fr
SUMMARY:Cérémonie - Devoir de Mémoire Civile
DESCRIPTION:
URL:https://www.lavogelesbains.fr/evenement/ceremonie-devoir-de-memoire-civile-2/
LOCATION:Bains-les-Bains\, Bains-les-Bains\, 88240
END:VEVENT
BEGIN:VEVENT
DTSTART;TZID=Europe/Paris:20261114T000000
DTEND;TZID=Europe/Paris:20261114T235959
DTSTAMP:20260425T012931
CREATED:20260112T152409Z
LAST-MODIFIED:20260112T152409Z
UID:4114-1794614400-1794700799@www.lavogelesbains.fr
SUMMARY:Vide Armoire / Bourse aux Jouets
DESCRIPTION:
URL:https://www.lavogelesbains.fr/evenement/vide-armoire-bourse-aux-jouets/
LOCATION:Gruey les Surances\, 4 rue de l'Église\, Gruey-lès-Surances\, 88221
END:VEVENT
BEGIN:VEVENT
DTSTART;TZID=Europe/Paris:20261121T000000
DTEND;TZID=Europe/Paris:20261121T235959
DTSTAMP:20260425T012931
CREATED:20260112T152749Z
LAST-MODIFIED:20260112T152749Z
UID:4117-1795219200-1795305599@www.lavogelesbains.fr
SUMMARY:Beaujolas Nouveau - Repas Cochonnailles
DESCRIPTION:
URL:https://www.lavogelesbains.fr/evenement/beaujolas-nouveau-repas-cochonnailles/
LOCATION:Le Clerjus\, Place du Champ-de-Foire\, Le Clerjus\, 88240
END:VEVENT
END:VCALENDAR