BEGIN:VCALENDAR
VERSION:2.0
PRODID:-//La Vôge-les-Bains - ECPv6.15.20//NONSGML v1.0//EN
CALSCALE:GREGORIAN
METHOD:PUBLISH
X-WR-CALNAME:La Vôge-les-Bains
X-ORIGINAL-URL:https://www.lavogelesbains.fr
X-WR-CALDESC:Évènements pour La Vôge-les-Bains
REFRESH-INTERVAL;VALUE=DURATION:PT1H
X-Robots-Tag:noindex
X-PUBLISHED-TTL:PT1H
BEGIN:VTIMEZONE
TZID:Europe/Paris
BEGIN:DAYLIGHT
TZOFFSETFROM:+0100
TZOFFSETTO:+0200
TZNAME:CEST
DTSTART:20250330T010000
END:DAYLIGHT
BEGIN:STANDARD
TZOFFSETFROM:+0200
TZOFFSETTO:+0100
TZNAME:CET
DTSTART:20251026T010000
END:STANDARD
BEGIN:DAYLIGHT
TZOFFSETFROM:+0100
TZOFFSETTO:+0200
TZNAME:CEST
DTSTART:20260329T010000
END:DAYLIGHT
BEGIN:STANDARD
TZOFFSETFROM:+0200
TZOFFSETTO:+0100
TZNAME:CET
DTSTART:20261025T010000
END:STANDARD
BEGIN:DAYLIGHT
TZOFFSETFROM:+0100
TZOFFSETTO:+0200
TZNAME:CEST
DTSTART:20270328T010000
END:DAYLIGHT
BEGIN:STANDARD
TZOFFSETFROM:+0200
TZOFFSETTO:+0100
TZNAME:CET
DTSTART:20271031T010000
END:STANDARD
END:VTIMEZONE
BEGIN:VEVENT
DTSTART;TZID=Europe/Paris:20261206T000000
DTEND;TZID=Europe/Paris:20261206T235959
DTSTAMP:20260425T030705
CREATED:20260112T153011Z
LAST-MODIFIED:20260112T153011Z
UID:4119-1796515200-1796601599@www.lavogelesbains.fr
SUMMARY:Marché de Noël
DESCRIPTION:
URL:https://www.lavogelesbains.fr/evenement/marche-de-noel/
LOCATION:Le Clerjus\, Place du Champ-de-Foire\, Le Clerjus\, 88240
END:VEVENT
BEGIN:VEVENT
DTSTART;TZID=Europe/Paris:20261206T000000
DTEND;TZID=Europe/Paris:20261206T235959
DTSTAMP:20260425T030705
CREATED:20260112T153509Z
LAST-MODIFIED:20260112T153509Z
UID:4122-1796515200-1796601599@www.lavogelesbains.fr
SUMMARY:Marché de St Nicolas
DESCRIPTION:
URL:https://www.lavogelesbains.fr/evenement/marche-de-st-nicolas/
LOCATION:Fontenoy-le-Chateau\, 9 RUE DE L EGLISE\, FONTENOY LE CHATEAU\, 88240
END:VEVENT
BEGIN:VEVENT
DTSTART;TZID=Europe/Paris:20261206T000000
DTEND;TZID=Europe/Paris:20261206T235959
DTSTAMP:20260425T030705
CREATED:20260112T153659Z
LAST-MODIFIED:20260112T153659Z
UID:4127-1796515200-1796601599@www.lavogelesbains.fr
SUMMARY:Cérémonie - Journée Nationale aux Morts pour la France
DESCRIPTION:
URL:https://www.lavogelesbains.fr/evenement/ceremonie-journee-nationale-aux-morts-pour-la-france-2/
LOCATION:Bains-les-Bains\, Bains-les-Bains\, 88240
END:VEVENT
BEGIN:VEVENT
DTSTART;TZID=Europe/Paris:20261212T000000
DTEND;TZID=Europe/Paris:20261212T235959
DTSTAMP:20260425T030705
CREATED:20260112T153809Z
LAST-MODIFIED:20260112T153809Z
UID:4129-1797033600-1797119999@www.lavogelesbains.fr
SUMMARY:Saint-Nicolas de La Vôge-les-Bains
DESCRIPTION:
URL:https://www.lavogelesbains.fr/evenement/saint-nicolas-de-la-voge-les-bains-2/
LOCATION:Bains-les-Bains\, Bains-les-Bains\, 88240
END:VEVENT
BEGIN:VEVENT
DTSTART;TZID=Europe/Paris:20261212T000000
DTEND;TZID=Europe/Paris:20261212T235959
DTSTAMP:20260425T030705
CREATED:20260112T153847Z
LAST-MODIFIED:20260112T153847Z
UID:4131-1797033600-1797119999@www.lavogelesbains.fr
SUMMARY:Fête de la Saint Nicolas
DESCRIPTION:
URL:https://www.lavogelesbains.fr/evenement/fete-de-la-saint-nicolas/
LOCATION:Gruey les Surances\, 4 rue de l'Église\, Gruey-lès-Surances\, 88221
END:VEVENT
END:VCALENDAR